BEGIN:VCALENDAR
VERSION:2.0
PRODID:-//McBrier Properties - ECPv6.10.1.1//NONSGML v1.0//EN
CALSCALE:GREGORIAN
METHOD:PUBLISH
X-ORIGINAL-URL:https://mcbrierproperties.com
X-WR-CALDESC:Events for McBrier Properties
REFRESH-INTERVAL;VALUE=DURATION:PT1H
X-Robots-Tag:noindex
X-PUBLISHED-TTL:PT1H
BEGIN:VTIMEZONE
TZID:UTC
BEGIN:STANDARD
TZOFFSETFROM:+0000
TZOFFSETTO:+0000
TZNAME:UTC
DTSTART:20250101T000000
END:STANDARD
END:VTIMEZONE
BEGIN:VEVENT
DTSTART;TZID=UTC:20250405T100000
DTEND;TZID=UTC:20250405T140000
DTSTAMP:20260421T171334
CREATED:20250317T173958Z
LAST-MODIFIED:20250317T173958Z
UID:1161-1743847200-1743861600@mcbrierproperties.com
SUMMARY:Spring Into The Village
DESCRIPTION:Spring Into The Village \n\nMark your calendars for an exciting community event on April 5th from 10 AM to 2 PM at The Village West Shopping Plaza! Join us for a day of fun\, shopping\, and family-friendly activities as we celebrate the season. \nThe highlight of the event is the Coupon Egg Hunt—with every purchase at participating stores\, shoppers will receive an egg filled with exclusive discounts and deals (while supplies last). \nBring the whole family for a memorable experience! Kids can meet the Easter Bunny\, receive a special Easter egg\, and snap adorable photos to cherish. Don’t miss out on this delightful spring celebration—see you there!
URL:https://mcbrierproperties.com/event/spring-into-the-village-2/
END:VEVENT
END:VCALENDAR