BEGIN:VCALENDAR
VERSION:2.0
PRODID:-//McBrier Properties - ECPv6.10.1.1//NONSGML v1.0//EN
CALSCALE:GREGORIAN
METHOD:PUBLISH
X-WR-CALNAME:McBrier Properties
X-ORIGINAL-URL:https://mcbrierproperties.com
X-WR-CALDESC:Events for McBrier Properties
REFRESH-INTERVAL;VALUE=DURATION:PT1H
X-Robots-Tag:noindex
X-PUBLISHED-TTL:PT1H
BEGIN:VTIMEZONE
TZID:UTC
BEGIN:STANDARD
TZOFFSETFROM:+0000
TZOFFSETTO:+0000
TZNAME:UTC
DTSTART:20210101T000000
END:STANDARD
END:VTIMEZONE
BEGIN:VEVENT
DTSTART;TZID=UTC:20220724T140000
DTEND;TZID=UTC:20220724T170000
DTSTAMP:20260425T164653
CREATED:20220722T152622Z
LAST-MODIFIED:20220722T152810Z
UID:1014-1658671200-1658682000@mcbrierproperties.com
SUMMARY:Spaghetti Dinner Benefit for Embracing Our Veterans
DESCRIPTION:Butchs Place Family Restaurant is hosting a Spaghetti Dinner Benefit for Embracing Our Veterans- Homeless Veterans Project this Sunday\, July 24th 2022 from 2PM to 5PM. \n\n\n \n\n\nDinner includes: Spaghetti\, Salad\, Rolls and Butter and Dessert $10.00 per Adult and $5.00 Children under 10. There will be Baskets and raffles. Tickets available at: Butch’s Family Restaurant or 3823 West 12th Street Erie\, Pa 16505. 814-636-1950 call for more information.
URL:https://mcbrierproperties.com/event/spaghetti-dinner-benefit-for-embracing-our-veterans/
END:VEVENT
BEGIN:VEVENT
DTSTART;VALUE=DATE:20220513
DTEND;VALUE=DATE:20220514
DTSTAMP:20260425T164653
CREATED:20220513T225416Z
LAST-MODIFIED:20220514T004804Z
UID:1010-1652400000-1652486399@mcbrierproperties.com
SUMMARY:The Ron Campbell traveling Rock Art Show
DESCRIPTION:Ron Campbell is a Yellow Submarine cartoon pop artist and retired screen cartoonist. Ron Campbell animated on the Beatles “Yellow Submarine” feature film\, directed the Beatles television cartoons and many other TV cartoons.\n\nCome view his artwork at the V Gallery\nMay 13th: 4PM-8PM\nMay 14th: 12PM-5PM\nMay 15th: 12PM-4PM
URL:https://mcbrierproperties.com/event/the-ron-campbell-traveling-rock-art-show/
END:VEVENT
BEGIN:VEVENT
DTSTART;TZID=UTC:20211106T100000
DTEND;TZID=UTC:20211106T160000
DTSTAMP:20260425T164653
CREATED:20211027T192203Z
LAST-MODIFIED:20211027T192203Z
UID:930-1636192800-1636214400@mcbrierproperties.com
SUMMARY:Open House
DESCRIPTION:Join us for a Christmas themed Open House! Explore all that The Village West Plaza has to offer.\n\nThe Tater Food Truck- 11AM-4PM\nPhoto op with Santa & Elf- Once Upon A Party
URL:https://mcbrierproperties.com/event/open-house/
END:VEVENT
BEGIN:VEVENT
DTSTART;TZID=UTC:20211015T190000
DTEND;TZID=UTC:20211015T220000
DTSTAMP:20260425T164653
CREATED:20210930T190310Z
LAST-MODIFIED:20210930T190310Z
UID:903-1634324400-1634335200@mcbrierproperties.com
SUMMARY:Gallery Night at Village West Plaza
DESCRIPTION:Gallery night will be at Vgallery located in the Village West Plaza.\n\nKevin Irvin is our Gallery Night artist. His art would be described as “Representational – with a blend of Impressionism”\n\nHe paints with both Oils and with Watercolors. He began painting in the late 70’s studying with Wilda Sundberg at the Erie Art Museum. Then he continued studying art and participating in workshops in Pittsburgh and Monhegan Island\, Maine with numerous well known artists there.\n\nMany of his paintings are water related and have been done at Presque Isle State Park here in Erie and Monhegan Island off the coast of Maine and the Cape Ann area of Massachusetts.
URL:https://mcbrierproperties.com/event/gallery-night-at-village-west-plaza/
LOCATION:V Gallery\, 3330 W 26th Street\, Erie\, PA\, United States
END:VEVENT
END:VCALENDAR