BEGIN:VCALENDAR
VERSION:2.0
PRODID:-//McBrier Properties - ECPv6.10.1.1//NONSGML v1.0//EN
CALSCALE:GREGORIAN
METHOD:PUBLISH
X-WR-CALNAME:McBrier Properties
X-ORIGINAL-URL:https://mcbrierproperties.com
X-WR-CALDESC:Events for McBrier Properties
REFRESH-INTERVAL;VALUE=DURATION:PT1H
X-Robots-Tag:noindex
X-PUBLISHED-TTL:PT1H
BEGIN:VTIMEZONE
TZID:UTC
BEGIN:STANDARD
TZOFFSETFROM:+0000
TZOFFSETTO:+0000
TZNAME:UTC
DTSTART:20230101T000000
END:STANDARD
END:VTIMEZONE
BEGIN:VEVENT
DTSTART;TZID=UTC:20230930T110000
DTEND;TZID=UTC:20230930T150000
DTSTAMP:20260424T141031
CREATED:20230911T145045Z
LAST-MODIFIED:20230911T145045Z
UID:1093-1696071600-1696086000@mcbrierproperties.com
SUMMARY:Fall Fest at Village West
DESCRIPTION:Join us at Village West for our Fall Fest on September 30th from 10AM to 3PM! Immerse yourself in the autumn ambiance as you shop in our plaza\, savor delicious food from Smoke’ N Fire Barbecue\, and enjoy meeting the animals from Anna Shelter!\n\nTaradoodles will be face painting from 11AM to 2PM
URL:https://mcbrierproperties.com/event/fall-fest-at-village-west/
END:VEVENT
END:VCALENDAR